BEGIN:VCALENDAR
VERSION:2.0
PRODID:-//NAIPI - ECPv6.15.17.1//NONSGML v1.0//EN
CALSCALE:GREGORIAN
METHOD:PUBLISH
X-WR-CALNAME:NAIPI
X-ORIGINAL-URL:https://naipi.org
X-WR-CALDESC:Events for NAIPI
REFRESH-INTERVAL;VALUE=DURATION:PT1H
X-Robots-Tag:noindex
X-PUBLISHED-TTL:PT1H
BEGIN:VTIMEZONE
TZID:UTC
BEGIN:STANDARD
TZOFFSETFROM:+0000
TZOFFSETTO:+0000
TZNAME:UTC
DTSTART:20220101T000000
END:STANDARD
END:VTIMEZONE
BEGIN:VEVENT
DTSTART;VALUE=DATE:20230915
DTEND;VALUE=DATE:20230919
DTSTAMP:20260425T224355
CREATED:20230120T140642Z
LAST-MODIFIED:20230428T162226Z
UID:4033-1694736000-1695081599@naipi.org
SUMMARY:IDeA South Eastern Region Conference 2023
DESCRIPTION:Event Name: IDeA South Eastern Region Conference 2023 \nWhere: Columbia\, South Carolina \nWhen: September 15-17\, 2023. \nKnow more about event: https://www.scinbre.org/seidea23  \nAgenda of the event: Agenda (scinbre.org) \nWe invite you to block these dates on the calendar and join us in September 2023. \n  \nseidea23 (scinbre.org) \nNAIPI \nSouth-Eastern Region
URL:https://naipi.org/event/idea-south-eastern-region-conference-2023/
LOCATION:NAIPI South Eastern Region\, Louisiana\, LA\, United States
CATEGORIES:South Carolina,South Eastern (SE)
ATTACH;FMTTYPE=image/gif:https://naipi.org/wp-content/uploads/2023/01/SE-REGIONAL.gif
END:VEVENT
END:VCALENDAR