BEGIN:VCALENDAR
VERSION:2.0
PRODID:-//NAIPI - ECPv6.15.17.1//NONSGML v1.0//EN
CALSCALE:GREGORIAN
METHOD:PUBLISH
X-WR-CALNAME:NAIPI
X-ORIGINAL-URL:https://naipi.org
X-WR-CALDESC:Events for NAIPI
REFRESH-INTERVAL;VALUE=DURATION:PT1H
X-Robots-Tag:noindex
X-PUBLISHED-TTL:PT1H
BEGIN:VTIMEZONE
TZID:UTC
BEGIN:STANDARD
TZOFFSETFROM:+0000
TZOFFSETTO:+0000
TZNAME:UTC
DTSTART:20220101T000000
END:STANDARD
END:VTIMEZONE
BEGIN:VEVENT
DTSTART;TZID=UTC:20230802T080000
DTEND;TZID=UTC:20230804T170000
DTSTAMP:20260425T194211
CREATED:20230120T141528Z
LAST-MODIFIED:20230428T172346Z
UID:4036-1690963200-1691168400@naipi.org
SUMMARY:IDeA Western Region Conference 2023
DESCRIPTION:Event Name: IDeA Western Region Conference 2023 \nWhere: New Mexico\, NM \nWhen: August 02-04\, 2023. \nKnow more about the event: 2023 Western Conference | New Mexico State University – BE BOLD. Shape the Future. (nmsu.edu) \nWe invite you to block these dates on the calendar and join us in August 2023. \n2023 Western Conference | New Mexico State University – BE BOLD. Shape the Future. (nmsu.edu) \nNAIPI \nWestern Region
URL:https://naipi.org/event/idea-western-region-conference-2023/
LOCATION:NAIPI Western Region
CATEGORIES:New Mexico,Western
ATTACH;FMTTYPE=image/png:https://naipi.org/wp-content/uploads/2023/01/Western-Region-Event.png
END:VEVENT
END:VCALENDAR