BEGIN:VCALENDAR
VERSION:2.0
PRODID:-//NAIPI - ECPv6.15.17.1//NONSGML v1.0//EN
CALSCALE:GREGORIAN
METHOD:PUBLISH
X-ORIGINAL-URL:https://naipi.org
X-WR-CALDESC:Events for NAIPI
REFRESH-INTERVAL;VALUE=DURATION:PT1H
X-Robots-Tag:noindex
X-PUBLISHED-TTL:PT1H
BEGIN:VTIMEZONE
TZID:America/Chicago
BEGIN:DAYLIGHT
TZOFFSETFROM:-0600
TZOFFSETTO:-0500
TZNAME:CDT
DTSTART:20240310T080000
END:DAYLIGHT
BEGIN:STANDARD
TZOFFSETFROM:-0500
TZOFFSETTO:-0600
TZNAME:CST
DTSTART:20241103T070000
END:STANDARD
BEGIN:DAYLIGHT
TZOFFSETFROM:-0600
TZOFFSETTO:-0500
TZNAME:CDT
DTSTART:20250309T080000
END:DAYLIGHT
BEGIN:STANDARD
TZOFFSETFROM:-0500
TZOFFSETTO:-0600
TZNAME:CST
DTSTART:20251102T070000
END:STANDARD
BEGIN:DAYLIGHT
TZOFFSETFROM:-0600
TZOFFSETTO:-0500
TZNAME:CDT
DTSTART:20260308T080000
END:DAYLIGHT
BEGIN:STANDARD
TZOFFSETFROM:-0500
TZOFFSETTO:-0600
TZNAME:CST
DTSTART:20261101T070000
END:STANDARD
BEGIN:DAYLIGHT
TZOFFSETFROM:-0600
TZOFFSETTO:-0500
TZNAME:CDT
DTSTART:20270314T080000
END:DAYLIGHT
BEGIN:STANDARD
TZOFFSETFROM:-0500
TZOFFSETTO:-0600
TZNAME:CST
DTSTART:20271107T070000
END:STANDARD
END:VTIMEZONE
BEGIN:VEVENT
DTSTART;TZID=America/Chicago:20250226T080000
DTEND;TZID=America/Chicago:20250228T170000
DTSTAMP:20260425T052258
CREATED:20241113T003306Z
LAST-MODIFIED:20241113T003924Z
UID:4907-1740556800-1740762000@naipi.org
SUMMARY:2025 Western Regional IDeA Conference
DESCRIPTION:The 2025 Western Regional IDeA Conference (WRIC) is a forum for biomedical scientists to exchange knowledge with their colleagues regarding the most recent research in the NIH IDeA Western Region.  The Western IDeA states are Alaska\, Hawaii\, Idaho\, Montana\, Nevada\, New Mexico\, and Wyoming. WRIC encompasses oral and poster scientific sessions\, keynote talks\, professional development workshops\, and information-sharing sessions with NIH officials. \nAlaska INBRE welcomes you to the 2025 NIH Western Regional IDeA Conference. The goal of this meeting is to provide a forum where biomedical students\, scientists\, and administrators will share knowledge and establish or strengthen collaborations towards building a dynamic and resilient biomedical research and training network. We are excited to highlight work in the IDeA Western Region\, which includes INBRE\, COBRE\, and CTR programs from Alaska\, Hawaii\, Idaho\, Montana\, Nevada\, New Mexico\, and Wyoming. The conference will be held at the Hotel Captain Cook in the winter city of Anchorage\, Alaska\, and will include keynote seminars\, poster sessions\, oral topic-organized breakout sessions\, professional development\, and IDeA program focused sessions with NIH staff. \nRegistration closes January 15\, 2025 \n\n\nOral abstract submission closes December 12\, 2025 \n\n\nPoster abstract submission closes January 15\, 2025 \n\n\n\n\n\nHere is the registration link. https://cvent.me/15R4Gz \n\n\nwebsite homepage. https://cvent.me/W21Ogo \n\n\noral and poster abstract submission. https://cvent.me/Bqbb7L
URL:https://naipi.org/event/2025-western-regional-idea-conference/
LOCATION:Hotel Captain Cook Anchorage\, Alaska\, Anchorage\, United States
CATEGORIES:Western
ATTACH;FMTTYPE=image/png:https://naipi.org/wp-content/uploads/2024/11/WRIC-Flyer-10.15.2024-1.png
END:VEVENT
BEGIN:VEVENT
DTSTART;TZID=America/Chicago:20250604T080000
DTEND;TZID=America/Chicago:20250606T170000
DTSTAMP:20260425T052258
CREATED:20250311T183007Z
LAST-MODIFIED:20250311T183035Z
UID:4958-1749024000-1749229200@naipi.org
SUMMARY:Central Regional IDeA Meeting
DESCRIPTION:CENTRAL REGION IDeA MEETING \nJune 4 – 6\, 2025 \nDoubleTree by Hilton Downtown Rapid City Convention Center \nRapid City\, SD \n\n\n\n\n\n\n\n\n\n\n\n\n\n\n\n\n\n\n\n\nHotel \n\n\n\n\n\n\n\n\n\n\n\n\n\n\n\n\n\n\n\n\nThe 2025 Central Region IDeA Meeting will be held at the DoubleTree by Hilton Downtown Rapid City Convention Center.\n505 N. 5th Street\, Rapid City\, SD 57701 \nHotel Cost:\n$164 – Single King with sofa-sleeper\n$164 – Double Queen\n$194 – 1 King Suite\n(Upgrade to a Double Queen Executive (Double Queen with sleeper sofa)) for $10 more. \nReserve your room today: \n\n\nCall 800-445-8667 anytime. Reference Central Region IDeA Meeting or group code BRN. \n\n\nFollow this link to book online: Central Region IDeA Meeting. \n\n\n\n\n\n\n\n\n\n\n\n\n\n\n\n\n\n\n\n\n\n\n\n\n\nRegistration \n\n\n\n\n\n\n\n\n\n\n\n\n\n\n\n\n\n\n\n\nCOMING SOON
URL:https://naipi.org/event/2025-central-regional-idea-meeting/
LOCATION:DoubleTree by Hilton Downtown Rapid City Convention Center
CATEGORIES:Central
ATTACH;FMTTYPE=image/png:https://naipi.org/wp-content/uploads/2025/03/2025-Central-IDeA-meeting.png
END:VEVENT
BEGIN:VEVENT
DTSTART;TZID=America/Chicago:20250623T080000
DTEND;TZID=America/Chicago:20250627T170000
DTSTAMP:20260425T052258
CREATED:20250521T152719Z
LAST-MODIFIED:20250521T152719Z
UID:4984-1750665600-1751043600@naipi.org
SUMMARY:iTREP Entrepreneurship Summer Bootcamp
DESCRIPTION:iTREP Biomedical Entrepreneurship Program starts from June 23–27\, 2025\, at the LSU School of Veterinary Medicine in Baton Rouge\, Louisiana. This week-long immersive training is being conducted in collaboration with the University of Vermont IDeA Entrepreneurship Program\, supported by NIH NIGMS\, and is specifically designed to introduce biomedical researchers to core concepts in innovation\, entrepreneurship\, and commercialization. \nThe program is open to graduate students\, postdoctoral fellows\, and junior faculty across IDeA states\, with a focus on biomedical research translation and venture development. Participants will engage with experienced faculty\, NIH program staff\, and entrepreneurs in interactive workshops\, mentorship sessions\, and a pitch competition at the end of the week.
URL:https://naipi.org/event/itrep-entrepreneurship-summer-bootcamp/
LOCATION:NAIPI South Eastern Region\, Louisiana\, LA\, United States
CATEGORIES:Louisiana,South Eastern (SE)
ATTACH;FMTTYPE=image/png:https://naipi.org/wp-content/uploads/2025/05/iTREP_LBRN-2.png
END:VEVENT
BEGIN:VEVENT
DTSTART;VALUE=DATE:20250701
DTEND;VALUE=DATE:20251226
DTSTAMP:20260425T052258
CREATED:20250807T154618Z
LAST-MODIFIED:20250807T154642Z
UID:5008-1751328000-1766707199@naipi.org
SUMMARY:IDeA NOA Tracker
DESCRIPTION:Piestar has released an updated NOA tracker using Airtable which gives you the ability to sort\, filter and download data: NOA Tracker – Piestar
URL:https://naipi.org/event/idea-noa-tracker/
CATEGORIES:Central,North Eastern (NE),South Eastern (SE),Western
ATTACH;FMTTYPE=image/jpeg:https://naipi.org/wp-content/uploads/2022/09/IDeA-Logo.jpg
END:VEVENT
BEGIN:VEVENT
DTSTART;TZID=America/Chicago:20250807T150000
DTEND;TZID=America/Chicago:20250807T160000
DTSTAMP:20260425T052258
CREATED:20250807T155846Z
LAST-MODIFIED:20250807T155935Z
UID:5016-1754578800-1754582400@naipi.org
SUMMARY:NAIPI National Committee Annual Meeting
DESCRIPTION:This is a closed-door meeting for the National Committee Members\, the invitation is already sent out through NAIPI communications along with the agenda. \nLooking forward to meeting you all who are part of the NAIPI’s National Committee. \n\nNational Committee Members
URL:https://naipi.org/event/naipi-national-committee-annual-meeting/
LOCATION:Zoom Invitation
CATEGORIES:Central,North Eastern (NE),South Eastern (SE),Western
ATTACH;FMTTYPE=image/jpeg:https://naipi.org/wp-content/uploads/2021/04/NAIPI-Logo-only.jpg
END:VEVENT
BEGIN:VEVENT
DTSTART;TZID=America/Chicago:20250925T080000
DTEND;TZID=America/Chicago:20250925T170000
DTSTAMP:20260425T052258
CREATED:20250807T155318Z
LAST-MODIFIED:20250807T155400Z
UID:5011-1758787200-1758819600@naipi.org
SUMMARY:INBRE PI/PC Meeting 2025
DESCRIPTION:We are pleased to invite you to the INBRE PI/PC Meeting\, which will take place in person on: \n\n\nDate: Thursday\, September 25\, 2025\nTime: 8:00 AM – 4:00 PM \n\n\nLocation: New Orleans Marriott \n\n\nAddress:  555 Canal St\, New Orleans\, LA 70130 \n\n\nThis meeting is hosted by the Louisiana Biomedical Research Network (LBRN) with NAIPI and will include updates\, collaborative sessions\, and strategic discussions among INBRE Program Investigators and Program Coordinators from across the IDeA states. \n\n\nWe recommend that attendees plan to arrive on the evening of Wednesday\, September 24\, 2025\, to ensure a timely start on Thursday morning. \n\n\nLink to reserve accommodation @$142/night: https://www.marriott.com/event-reservations/reservation-link.mi?id=1752690821888&key=GRP&app=resvlink \n\n\nYou are encouraged to make your lodging arrangements as early as possible. The cut off date to reserve the accommodation at the hotel is August 20\, 2025 \n\n\nA detailed agenda and logistics will be shared in the coming weeks. Please save the date and book your travel for the same. \n\n\nWe look forward to welcoming you to New Orleans! \nFor questions\, please email: odutta@lsu.edu
URL:https://naipi.org/event/inbre-pi-pc-meeting-2025/
LOCATION:Marriott at Canal Street\, New Orleans
CATEGORIES:Central,Louisiana,North Eastern (NE),South Eastern (SE),Western
ATTACH;FMTTYPE=image/png:https://naipi.org/wp-content/uploads/2025/08/INBRE-PI-PC_NOLA.png
END:VEVENT
BEGIN:VEVENT
DTSTART;TZID=America/Chicago:20260614T080000
DTEND;TZID=America/Chicago:20260617T170000
DTSTAMP:20260425T052258
CREATED:20241214T221527Z
LAST-MODIFIED:20251106T191811Z
UID:4922-1781424000-1781715600@naipi.org
SUMMARY:NISBRE2026
DESCRIPTION:Join us for NISBRE2026 from June 14-17\, 2026\, at the North Conference Center Marriott in Bethesda\, Maryland.\nRegistrations are now open: National IDeA Symposium of Biomedical Research Excellence (NISBRE 2026) | June 14-17 · Rockville\, Maryland
URL:https://naipi.org/event/nisbre2026-2/
LOCATION:North Conference Center Marriott in Bethesda\, Maryland\, Bethesda\, Maryland\, United States
ATTACH;FMTTYPE=image/png:https://naipi.org/wp-content/uploads/2024/12/NISBREsplash.png
END:VEVENT
END:VCALENDAR