BEGIN:VCALENDAR
VERSION:2.0
PRODID:-//NAIPI - ECPv6.15.17.1//NONSGML v1.0//EN
CALSCALE:GREGORIAN
METHOD:PUBLISH
X-WR-CALNAME:NAIPI
X-ORIGINAL-URL:https://naipi.org
X-WR-CALDESC:Events for NAIPI
REFRESH-INTERVAL;VALUE=DURATION:PT1H
X-Robots-Tag:noindex
X-PUBLISHED-TTL:PT1H
BEGIN:VTIMEZONE
TZID:UTC
BEGIN:STANDARD
TZOFFSETFROM:+0000
TZOFFSETTO:+0000
TZNAME:UTC
DTSTART:20210101T000000
END:STANDARD
END:VTIMEZONE
BEGIN:VEVENT
DTSTART;TZID=UTC:20220408T080000
DTEND;TZID=UTC:20220408T170000
DTSTAMP:20260423T163126
CREATED:20220304T210443Z
LAST-MODIFIED:20220304T210443Z
UID:3530-1649404800-1649437200@naipi.org
SUMMARY:2022 PR-INBRE UG SUMMER INTERNSHIP
DESCRIPTION:2022 PR-INBRE UG SUMMER INTERNSHIP\n\n\nA 10 weeks Internship for undergraduate students\, from June 1 – August 8\, 2022. \nSubmission Deadline: April 8\, 2022. \n\nFor more information please contact: \nMs. Sandra Charriez \nSTCC Assistant Project Coordinator \nemail: sandra.charriez@upr.edu | stce.inbre.pr@gmail.com \nhttp://inbre.hpcf.upr.edu/2022/02/22/2022-pr-inbre-ug-summer-internship/
URL:https://naipi.org/event/2022-pr-inbre-ug-summer-internship/
LOCATION:NAIPI South Eastern Region\, Louisiana\, LA\, United States
CATEGORIES:Puerto Rico
ATTACH;FMTTYPE=image/jpeg:https://naipi.org/wp-content/uploads/2022/03/CALL-FOR-SUMMER-INTERNSHIP.jpg
END:VEVENT
BEGIN:VEVENT
DTSTART;TZID=UTC:20220304T080000
DTEND;TZID=UTC:20220304T170000
DTSTAMP:20260423T163126
CREATED:20220304T211040Z
LAST-MODIFIED:20220304T211150Z
UID:3533-1646380800-1646413200@naipi.org
SUMMARY:Artificial Intelligence\, Drug Discovery and Protein-Protein Interactions: A New Love Triangle
DESCRIPTION:Interdepartmental Seminar Series\nTopic: Artificial intelligence\, drug discovery and protein-protein interactions: a new love triangle\nGraduate Program for Biomedical Sciences\, University of Puerto Rico\, School of Medicine and Puerto Rico IDeA Network of Biomedical Research Excellence (PR-INBRE) \nSpeaker: Igor Stagljar\, PhD\, Therapeutical Drug Discovery\, University of Toronto \nDate: February 18\, 2022 \nTime: 12:00 – 1:00PM (ATL) \ninbre.hpcf.upr.edu/wp-content/uploads/2022/02/Igor-Stagljars-Seminar-Announcement_02-18-20223-2.pdf \nFor more details\, visit: \nArtificial intelligence\, drug discovery and protein-protein interactions: a new love triangle – PRINBRE (upr.edu)
URL:https://naipi.org/event/artificial-intelligence-drug-discovery-and-protein-protein-interactions-a-new-love-triangle/
LOCATION:NAIPI South Eastern Region\, Louisiana\, LA\, United States
CATEGORIES:Puerto Rico
ATTACH;FMTTYPE=image/jpeg:https://naipi.org/wp-content/uploads/2022/03/IgorStaglar.jpg
END:VEVENT
END:VCALENDAR