BEGIN:VCALENDAR
VERSION:2.0
PRODID:-//NAIPI - ECPv6.15.17.1//NONSGML v1.0//EN
CALSCALE:GREGORIAN
METHOD:PUBLISH
X-ORIGINAL-URL:https://naipi.org
X-WR-CALDESC:Events for NAIPI
REFRESH-INTERVAL;VALUE=DURATION:PT1H
X-Robots-Tag:noindex
X-PUBLISHED-TTL:PT1H
BEGIN:VTIMEZONE
TZID:America/Chicago
BEGIN:DAYLIGHT
TZOFFSETFROM:-0600
TZOFFSETTO:-0500
TZNAME:CDT
DTSTART:20230312T080000
END:DAYLIGHT
BEGIN:STANDARD
TZOFFSETFROM:-0500
TZOFFSETTO:-0600
TZNAME:CST
DTSTART:20231105T070000
END:STANDARD
BEGIN:DAYLIGHT
TZOFFSETFROM:-0600
TZOFFSETTO:-0500
TZNAME:CDT
DTSTART:20240310T080000
END:DAYLIGHT
BEGIN:STANDARD
TZOFFSETFROM:-0500
TZOFFSETTO:-0600
TZNAME:CST
DTSTART:20241103T070000
END:STANDARD
BEGIN:DAYLIGHT
TZOFFSETFROM:-0600
TZOFFSETTO:-0500
TZNAME:CDT
DTSTART:20250309T080000
END:DAYLIGHT
BEGIN:STANDARD
TZOFFSETFROM:-0500
TZOFFSETTO:-0600
TZNAME:CST
DTSTART:20251102T070000
END:STANDARD
END:VTIMEZONE
BEGIN:VEVENT
DTSTART;TZID=America/Chicago:20240613T080000
DTEND;TZID=America/Chicago:20240613T170000
DTSTAMP:20260425T062453
CREATED:20231220T163427Z
LAST-MODIFIED:20231220T163523Z
UID:4343-1718265600-1718298000@naipi.org
SUMMARY:Mississippi Health Disparities 2024 Conference
DESCRIPTION:Mississippi Health Disparities 2024 Conference\nLocal/Regional/National: \nLocal \nEvent Description: \nThe countdown is on for submitting your sponsorship or proposal application for the Mississippi Health Disparities (MHD) 2024 conference. Mark your calendars for this highly anticipated annual scientific conference focusing on health disparities. The event will take place Thursday\, June 13\, 2024\, at the Hospitality Resort Management Center on the Mississippi Gulf Coast Community College campus in Biloxi\, MS. To access the MHD2024 Conference Exhibitor and Sponsorship Application form to view our wide range of tailored packages\, click here: https://redcap.usm.edu/surveys/?s=FNMYKANJ8PKR7JAH . The deadline for securing your spot as a sponsor or exhibitor is February 29\, 2024. Interested in presenting your research/program? Access the session proposal submissions here: https://msinbre.piestar-rfx.com/opportunities/all/rfp/119 . The deadline for submitting a proposal is January 19\, 2024. \nIf you have any questions\, please do not hesitate to contact us at telenutrition@usm.edu. For payment inquiries\, contact Mr. Willie McKennis at Willie.McKennis@usm.edu or 601.266.4619. We hope you will join us at the Mississippi Health Disparities Conference! \nEvent Details Flyer: \nMHD24 Sponsor/Proposal (hubspotusercontent-na1.net) \nLink to event: \n\nHomepage \n\nEvent Contact: \nLanena John – lanena.john@usm.edu
URL:https://naipi.org/event/mississippi-health-disparities-2024-conference/
CATEGORIES:Mississippi,South Eastern (SE)
ATTACH;FMTTYPE=image/png:https://naipi.org/wp-content/uploads/2023/12/Mississippi-Health-Disparities-2024.png
ORGANIZER;CN="Mississippi Health Disparities":MAILTO:lanena.john@usm.edu
END:VEVENT
END:VCALENDAR