BEGIN:VCALENDAR
VERSION:2.0
PRODID:-//NAIPI - ECPv6.15.17.1//NONSGML v1.0//EN
CALSCALE:GREGORIAN
METHOD:PUBLISH
X-WR-CALNAME:NAIPI
X-ORIGINAL-URL:https://naipi.org
X-WR-CALDESC:Events for NAIPI
REFRESH-INTERVAL;VALUE=DURATION:PT1H
X-Robots-Tag:noindex
X-PUBLISHED-TTL:PT1H
BEGIN:VTIMEZONE
TZID:America/Chicago
BEGIN:DAYLIGHT
TZOFFSETFROM:-0600
TZOFFSETTO:-0500
TZNAME:CDT
DTSTART:20220313T080000
END:DAYLIGHT
BEGIN:STANDARD
TZOFFSETFROM:-0500
TZOFFSETTO:-0600
TZNAME:CST
DTSTART:20221106T070000
END:STANDARD
BEGIN:DAYLIGHT
TZOFFSETFROM:-0600
TZOFFSETTO:-0500
TZNAME:CDT
DTSTART:20230312T080000
END:DAYLIGHT
BEGIN:STANDARD
TZOFFSETFROM:-0500
TZOFFSETTO:-0600
TZNAME:CST
DTSTART:20231105T070000
END:STANDARD
BEGIN:DAYLIGHT
TZOFFSETFROM:-0600
TZOFFSETTO:-0500
TZNAME:CDT
DTSTART:20240310T080000
END:DAYLIGHT
BEGIN:STANDARD
TZOFFSETFROM:-0500
TZOFFSETTO:-0600
TZNAME:CST
DTSTART:20241103T070000
END:STANDARD
END:VTIMEZONE
BEGIN:VEVENT
DTSTART;TZID=America/Chicago:20231027T080000
DTEND;TZID=America/Chicago:20231027T170000
DTSTAMP:20260425T213023
CREATED:20230911T172128Z
LAST-MODIFIED:20230911T172313Z
UID:4275-1698393600-1698426000@naipi.org
SUMMARY:2023 CPCCR Symposium
DESCRIPTION:2023 CPCCR Symposium\nEvent Date: October 27\, 2023 \nLocation: LSU School of Veterinary Medicine \nAbout\nThe LSU School of Veterinary Medicine received an $11 million National Institutes of Health grant in 2021 to establish a Center of Biomedical Research Excellence (COBRE)\, specifically the Center for Pre-clinical Cancer Research (CPCCR). As part of the annual review for this grant\, LSU Vet Med is hosting this cancer research symposium featuring three world-renowned scientists\, research project updates from CPPCR researchers\, and information on three pilot projects. \n\nWhen & Where\n\nThis year’s meeting was held on October 27\, 2023\, in Baton Rouge\, Louisiana at the LSU School of Veterinary Medicine. \n\n\n\nRegistration\n2023 CPCCR Symposium Registration (lsu.edu)
URL:https://naipi.org/event/2023-cpccr-symposium/
LOCATION:LSU School of Veterinary Medicine\, LSU school of Veterinary Medicine\, Baton Rouge\, Louisiana\, LA\, United States
CATEGORIES:Louisiana,South Eastern (SE)
ATTACH;FMTTYPE=image/png:https://naipi.org/wp-content/uploads/2023/09/2023-CPCCR-Symposium-LBRN.png
END:VEVENT
END:VCALENDAR