BEGIN:VCALENDAR
VERSION:2.0
PRODID:-//NAIPI - ECPv6.15.17.1//NONSGML v1.0//EN
CALSCALE:GREGORIAN
METHOD:PUBLISH
X-ORIGINAL-URL:https://naipi.org
X-WR-CALDESC:Events for NAIPI
REFRESH-INTERVAL;VALUE=DURATION:PT1H
X-Robots-Tag:noindex
X-PUBLISHED-TTL:PT1H
BEGIN:VTIMEZONE
TZID:America/Chicago
BEGIN:DAYLIGHT
TZOFFSETFROM:-0600
TZOFFSETTO:-0500
TZNAME:CDT
DTSTART:20220313T080000
END:DAYLIGHT
BEGIN:STANDARD
TZOFFSETFROM:-0500
TZOFFSETTO:-0600
TZNAME:CST
DTSTART:20221106T070000
END:STANDARD
BEGIN:DAYLIGHT
TZOFFSETFROM:-0600
TZOFFSETTO:-0500
TZNAME:CDT
DTSTART:20230312T080000
END:DAYLIGHT
BEGIN:STANDARD
TZOFFSETFROM:-0500
TZOFFSETTO:-0600
TZNAME:CST
DTSTART:20231105T070000
END:STANDARD
BEGIN:DAYLIGHT
TZOFFSETFROM:-0600
TZOFFSETTO:-0500
TZNAME:CDT
DTSTART:20240310T080000
END:DAYLIGHT
BEGIN:STANDARD
TZOFFSETFROM:-0500
TZOFFSETTO:-0600
TZNAME:CST
DTSTART:20241103T070000
END:STANDARD
END:VTIMEZONE
BEGIN:VEVENT
DTSTART;TZID=America/Chicago:20230928T080000
DTEND;TZID=America/Chicago:20231219T170000
DTSTAMP:20260425T140454
CREATED:20230913T103831Z
LAST-MODIFIED:20231220T163559Z
UID:4285-1695888000-1703005200@naipi.org
SUMMARY:OMICSLOGIC/NAIPI: VIRTUAL BIOMMED FALL TRAINING PROGRAMS
DESCRIPTION:OMICSLOGIC/NAIPI: VIRTUAL BIOINFORMATICS & DATA SCIENCE FALL SEMESTER TRAINING PROGRAMS \nOmicsLogic is offering Virtual Fall Training Programs for NAIPI-affiliated PIs\, researchers\, and students. Training Programs are designed to address the pressing needs of students\, faculty\, and researchers to deal with growing amounts of high throughput data generated in life sciences.\n\nWith a focus on accessibility\, hands-on practice\, and project-driven design\, these training modules will help you get started and grow in biomedical informatics\, bioinformatics & related -omics fields.\n\nOmicsLogic cordially invites you to seize the opportunity presented by our upcoming Fall Training Program\, featuring an exclusive 10% scholarship!!\n\nPrograms and Features:\n\n\n\n\nCost of the programs:\nIntroduction to Multi-Omics Bioinformatics: $300\nNGS Genomics Data Analysis: $350\nNGS Metagenomics Data Analysis: $350\nBiomedical Data Science & ML Using Python: $450\n\nRegister today at: https://forms.gle/pQeJTjdHZrLJh8WV8\n\nfor more details\, email us at: naipiorganization@gmail.com (Ojasvi Dutta)
URL:https://naipi.org/event/omicslogic-naipi-virtual-biommed-fall-training-progams/
LOCATION:Online
CATEGORIES:Central,North Eastern (NE),South Eastern (SE),Western
ATTACH;FMTTYPE=image/png:https://naipi.org/wp-content/uploads/2023/09/Screenshot-2023-09-06-at-1.29.42-PM.png
ORGANIZER;CN="OMICSLOGIC":MAILTO:mohit@pine.bio
END:VEVENT
BEGIN:VEVENT
DTSTART;TZID=America/Chicago:20231110T080000
DTEND;TZID=America/Chicago:20231110T170000
DTSTAMP:20260425T140454
CREATED:20230907T181952Z
LAST-MODIFIED:20230907T181952Z
UID:4265-1699603200-1699635600@naipi.org
SUMMARY:35th Annual Health Sciences Research Day
DESCRIPTION:35th Annual Health Sciences Research Day \nOrganized and sponsored by the Marshall University Joan C. Edwards School of Medicine\, Health Sciences Research Day partners with the School of Pharmacy\, the College of Health Professions and the College of Science to highlight original research and educational innovations. Participating students include undergraduates as well as graduate\, medical\, pharmacy\, nursing\, health professions and postdoctoral trainees in medicine\, biomedical sciences and clinical and translational sciences. \nThe day-long symposium\, hosted in the fall of each year\, features oral and poster presentations in the areas of clinical science\, basic science\, medical education and quality improvement. \n>>Abstract Submissions Due: September 18\, 2023 \n\nEVENT DETAILS: \nWHEN: Friday\, November 10\, 2023 | 8 a.m. to 5 p.m.\nWHERE: Marshall University Medical Center Atrium | 1600 Medical Center Drive\, Huntington\nMore Information: jcesom.marshall.edu/researchday
URL:https://naipi.org/event/35th-annual-health-sciences-research-day/
LOCATION:WV INBRE\, WV\, United States
CATEGORIES:South Eastern (SE),West Virginia
ATTACH;FMTTYPE=image/png:https://naipi.org/wp-content/uploads/2023/09/Marshall-University-Research-Day-Event.png
END:VEVENT
END:VCALENDAR