BEGIN:VCALENDAR
VERSION:2.0
PRODID:-//NAIPI - ECPv6.15.17.1//NONSGML v1.0//EN
CALSCALE:GREGORIAN
METHOD:PUBLISH
X-WR-CALNAME:NAIPI
X-ORIGINAL-URL:https://naipi.org
X-WR-CALDESC:Events for NAIPI
REFRESH-INTERVAL;VALUE=DURATION:PT1H
X-Robots-Tag:noindex
X-PUBLISHED-TTL:PT1H
BEGIN:VTIMEZONE
TZID:UTC
BEGIN:STANDARD
TZOFFSETFROM:+0000
TZOFFSETTO:+0000
TZNAME:UTC
DTSTART:20200101T000000
END:STANDARD
END:VTIMEZONE
BEGIN:VEVENT
DTSTART;TZID=UTC:20210816T080000
DTEND;TZID=UTC:20210818T170000
DTSTAMP:20260423T144317
CREATED:20210630T111426Z
LAST-MODIFIED:20210804T211134Z
UID:838-1629100800-1629306000@naipi.org
SUMMARY:North-East Regional IDeA Conference
DESCRIPTION:Rhode Island INBRE is pleased to host the 2021 North East Regional Institutional Development Award (IDeA) Conference this summer. \nThis virtual conference will bring together investigators and students from IDeA programs throughout Delaware\, Maine\, New Hampshire\, Rhode Island\, and Vermont and will feature keynotes\, science sessions\, breakouts\, and \nLighting Talks highlighting some exciting IDeA research and discoveries in the areas of neuro and cardiovascular health\, cancer\, addiction\, host/microbe interactions and drug resistance\, environmental health sciences\, computational biology\, and entrepreneurship. View the agenda. \nOur featured Lightning Talks are an exciting opportunity for trainees to share short and engaging presentations. Please encourage your trainees to submit an abstract before the July 1 deadline.
URL:https://naipi.org/event/2021-virtual-north-east-regional-idea-conference-v-neric/
LOCATION:NAIPI North Eastern Region\, University of Rhode Island\, Kingston\, RI\, 02881\, United States
CATEGORIES:North Eastern (NE)
ATTACH;FMTTYPE=image/jpeg:https://naipi.org/wp-content/uploads/2021/06/210623-idea-neric-2.jpeg
END:VEVENT
END:VCALENDAR