BEGIN:VCALENDAR
VERSION:2.0
PRODID:-//NAIPI - ECPv6.15.17.1//NONSGML v1.0//EN
CALSCALE:GREGORIAN
METHOD:PUBLISH
X-ORIGINAL-URL:https://naipi.org
X-WR-CALDESC:Events for NAIPI
REFRESH-INTERVAL;VALUE=DURATION:PT1H
X-Robots-Tag:noindex
X-PUBLISHED-TTL:PT1H
BEGIN:VTIMEZONE
TZID:America/Chicago
BEGIN:DAYLIGHT
TZOFFSETFROM:-0600
TZOFFSETTO:-0500
TZNAME:CDT
DTSTART:20220313T080000
END:DAYLIGHT
BEGIN:STANDARD
TZOFFSETFROM:-0500
TZOFFSETTO:-0600
TZNAME:CST
DTSTART:20221106T070000
END:STANDARD
BEGIN:DAYLIGHT
TZOFFSETFROM:-0600
TZOFFSETTO:-0500
TZNAME:CDT
DTSTART:20230312T080000
END:DAYLIGHT
BEGIN:STANDARD
TZOFFSETFROM:-0500
TZOFFSETTO:-0600
TZNAME:CST
DTSTART:20231105T070000
END:STANDARD
BEGIN:DAYLIGHT
TZOFFSETFROM:-0600
TZOFFSETTO:-0500
TZNAME:CDT
DTSTART:20240310T080000
END:DAYLIGHT
BEGIN:STANDARD
TZOFFSETFROM:-0500
TZOFFSETTO:-0600
TZNAME:CST
DTSTART:20241103T070000
END:STANDARD
BEGIN:DAYLIGHT
TZOFFSETFROM:-0600
TZOFFSETTO:-0500
TZNAME:CDT
DTSTART:20250309T080000
END:DAYLIGHT
BEGIN:STANDARD
TZOFFSETFROM:-0500
TZOFFSETTO:-0600
TZNAME:CST
DTSTART:20251102T070000
END:STANDARD
BEGIN:DAYLIGHT
TZOFFSETFROM:-0600
TZOFFSETTO:-0500
TZNAME:CDT
DTSTART:20260308T080000
END:DAYLIGHT
BEGIN:STANDARD
TZOFFSETFROM:-0500
TZOFFSETTO:-0600
TZNAME:CST
DTSTART:20261101T070000
END:STANDARD
END:VTIMEZONE
BEGIN:VTIMEZONE
TZID:UTC
BEGIN:STANDARD
TZOFFSETFROM:+0000
TZOFFSETTO:+0000
TZNAME:UTC
DTSTART:20200101T000000
END:STANDARD
END:VTIMEZONE
BEGIN:VEVENT
DTSTART;TZID=America/Chicago:20250925T080000
DTEND;TZID=America/Chicago:20250925T170000
DTSTAMP:20260423T131126
CREATED:20250807T155318Z
LAST-MODIFIED:20250807T155400Z
UID:5011-1758787200-1758819600@naipi.org
SUMMARY:INBRE PI/PC Meeting 2025
DESCRIPTION:We are pleased to invite you to the INBRE PI/PC Meeting\, which will take place in person on: \n\n\nDate: Thursday\, September 25\, 2025\nTime: 8:00 AM – 4:00 PM \n\n\nLocation: New Orleans Marriott \n\n\nAddress:  555 Canal St\, New Orleans\, LA 70130 \n\n\nThis meeting is hosted by the Louisiana Biomedical Research Network (LBRN) with NAIPI and will include updates\, collaborative sessions\, and strategic discussions among INBRE Program Investigators and Program Coordinators from across the IDeA states. \n\n\nWe recommend that attendees plan to arrive on the evening of Wednesday\, September 24\, 2025\, to ensure a timely start on Thursday morning. \n\n\nLink to reserve accommodation @$142/night: https://www.marriott.com/event-reservations/reservation-link.mi?id=1752690821888&key=GRP&app=resvlink \n\n\nYou are encouraged to make your lodging arrangements as early as possible. The cut off date to reserve the accommodation at the hotel is August 20\, 2025 \n\n\nA detailed agenda and logistics will be shared in the coming weeks. Please save the date and book your travel for the same. \n\n\nWe look forward to welcoming you to New Orleans! \nFor questions\, please email: odutta@lsu.edu
URL:https://naipi.org/event/inbre-pi-pc-meeting-2025/
LOCATION:Marriott at Canal Street\, New Orleans
CATEGORIES:Central,Louisiana,North Eastern (NE),South Eastern (SE),Western
ATTACH;FMTTYPE=image/png:https://naipi.org/wp-content/uploads/2025/08/INBRE-PI-PC_NOLA.png
END:VEVENT
BEGIN:VEVENT
DTSTART;TZID=America/Chicago:20250807T150000
DTEND;TZID=America/Chicago:20250807T160000
DTSTAMP:20260423T131126
CREATED:20250807T155846Z
LAST-MODIFIED:20250807T155935Z
UID:5016-1754578800-1754582400@naipi.org
SUMMARY:NAIPI National Committee Annual Meeting
DESCRIPTION:This is a closed-door meeting for the National Committee Members\, the invitation is already sent out through NAIPI communications along with the agenda. \nLooking forward to meeting you all who are part of the NAIPI’s National Committee. \n\nNational Committee Members
URL:https://naipi.org/event/naipi-national-committee-annual-meeting/
LOCATION:Zoom Invitation
CATEGORIES:Central,North Eastern (NE),South Eastern (SE),Western
ATTACH;FMTTYPE=image/jpeg:https://naipi.org/wp-content/uploads/2021/04/NAIPI-Logo-only.jpg
END:VEVENT
BEGIN:VEVENT
DTSTART;VALUE=DATE:20250701
DTEND;VALUE=DATE:20251226
DTSTAMP:20260423T131126
CREATED:20250807T154618Z
LAST-MODIFIED:20250807T154642Z
UID:5008-1751328000-1766707199@naipi.org
SUMMARY:IDeA NOA Tracker
DESCRIPTION:Piestar has released an updated NOA tracker using Airtable which gives you the ability to sort\, filter and download data: NOA Tracker – Piestar
URL:https://naipi.org/event/idea-noa-tracker/
CATEGORIES:Central,North Eastern (NE),South Eastern (SE),Western
ATTACH;FMTTYPE=image/jpeg:https://naipi.org/wp-content/uploads/2022/09/IDeA-Logo.jpg
END:VEVENT
BEGIN:VEVENT
DTSTART;TZID=America/Chicago:20231025T080000
DTEND;TZID=America/Chicago:20231027T170000
DTSTAMP:20260423T131126
CREATED:20230907T181221Z
LAST-MODIFIED:20230907T181315Z
UID:4260-1698220800-1698426000@naipi.org
SUMMARY:Maine Research Symposium
DESCRIPTION:The UMaine Institute of Medicine\, along with partner organizations JAX\, MDI Biological Laboratory\, MaineHealth\, Northern Light Health\, University of New England\, University of Southern Maine\, and the Roux Institute\, are planning the second Maine Research Symposium on Biomedical Science and Engineering for Wednesday – Friday\, October 25 – 27\, 2023. This year’s symposium will be offering events on mental health\, rural health\, translational and basic sciences in Collins Center for the Arts\, the Hudson Museum and Wells Conference Center. \n\n\nThe call for poster abstracts is now open. \nThe draft schedule is available for review. PLEASE NOTE: speakers that have confirmed will list an asterisk\, and speakers pending confirmation will have a double asterisk. \nRegistration will be open in mid-August.  Registration fee is $35 for students and $75 for all others and includes access to all three-days (as well as attendance at the MERGE Collaborative on Friday\, October27) breakfast\, lunches\, and receptions.\nPLEASE NOTE: the 18th Annual Geriatrics Colloquium will be held on Wednesday\, October 25\, and requires a separate registration. \nHotel blocks of rooms are available at multiple locations in Bangor and Orono. \nIf you have any questions regarding the symposium\, please contact Tanya\nPinkham at ude.eniam@mahknip.aynat \nThe 2023 Symposium Registration site is now open!\nPlease note there are two registration sites\, depending on the event(s) you will participate in.\n\nOctober 25: 18th Annual Geriatrics Colloquium (offering attendance both in-person and Zoom). The registration fee\, $0 – $40 (price depends on options selected)\, will include refreshments\, lunches and receptions. Registration to the 18th Annual Geriatrics Colloquium is accessible here.\nOctober 25-27: Research Symposium and the MERGE Collaborative. The registration fee\, $35 students; $75 all others\, will include access to all three-days of the symposium\, the MERGE Collaborative\, refreshments\, lunches and receptions. Registration to the Research Symposium and the MERGE Collaborative is accessible here.\nNOTE: There will be an evening banquet dinner on Thursday\, October 26 (tentative scheduled time from 6:30 – 8:30) in Wells Conference Center. Dinner will include a soup or salad option\, dinner rolls\, choice of a chicken\, haddock\, or vegetarian main dish\, dessert\, as well as iced tea\, coffee and hot tea service.\nTickets to this event are $25 and must be purchased in advanced as space is limited. Tickets to the dinner are available in the Research Symposium and the MERGE Collaborative registration link.\n\nFor questions regarding registration to the 18th Annual Geriatrics Colloquium\, please reach out to Lenard Kaye at len.kaye@maine.edu \nFor questions regarding registration to the Research Symposium or MERGE Collaborative\, please reach out to Tanya Pinkham at tanya.pinkham@maine.edu
URL:https://naipi.org/event/maine-research-symposium/
LOCATION:Maine INBRE\, Collins Center for the Arts\, the Hudson Museum and Wells Conference Center.\, ME\, United States
CATEGORIES:Maine,North Eastern (NE)
ATTACH;FMTTYPE=image/jpeg:https://naipi.org/wp-content/uploads/2023/09/Maine-Symposium.jpg
END:VEVENT
BEGIN:VEVENT
DTSTART;TZID=America/Chicago:20230928T080000
DTEND;TZID=America/Chicago:20231219T170000
DTSTAMP:20260423T131126
CREATED:20230913T103831Z
LAST-MODIFIED:20231220T163559Z
UID:4285-1695888000-1703005200@naipi.org
SUMMARY:OMICSLOGIC/NAIPI: VIRTUAL BIOMMED FALL TRAINING PROGRAMS
DESCRIPTION:OMICSLOGIC/NAIPI: VIRTUAL BIOINFORMATICS & DATA SCIENCE FALL SEMESTER TRAINING PROGRAMS \nOmicsLogic is offering Virtual Fall Training Programs for NAIPI-affiliated PIs\, researchers\, and students. Training Programs are designed to address the pressing needs of students\, faculty\, and researchers to deal with growing amounts of high throughput data generated in life sciences.\n\nWith a focus on accessibility\, hands-on practice\, and project-driven design\, these training modules will help you get started and grow in biomedical informatics\, bioinformatics & related -omics fields.\n\nOmicsLogic cordially invites you to seize the opportunity presented by our upcoming Fall Training Program\, featuring an exclusive 10% scholarship!!\n\nPrograms and Features:\n\n\n\n\nCost of the programs:\nIntroduction to Multi-Omics Bioinformatics: $300\nNGS Genomics Data Analysis: $350\nNGS Metagenomics Data Analysis: $350\nBiomedical Data Science & ML Using Python: $450\n\nRegister today at: https://forms.gle/pQeJTjdHZrLJh8WV8\n\nfor more details\, email us at: naipiorganization@gmail.com (Ojasvi Dutta)
URL:https://naipi.org/event/omicslogic-naipi-virtual-biommed-fall-training-progams/
LOCATION:Online
CATEGORIES:Central,North Eastern (NE),South Eastern (SE),Western
ATTACH;FMTTYPE=image/png:https://naipi.org/wp-content/uploads/2023/09/Screenshot-2023-09-06-at-1.29.42-PM.png
ORGANIZER;CN="OMICSLOGIC":MAILTO:mohit@pine.bio
END:VEVENT
BEGIN:VEVENT
DTSTART;VALUE=DATE:20230816
DTEND;VALUE=DATE:20230819
DTSTAMP:20260423T131126
CREATED:20230120T141830Z
LAST-MODIFIED:20230428T162605Z
UID:4039-1692144000-1692403199@naipi.org
SUMMARY:IDeA North Eastern Region Conference 2023
DESCRIPTION:Event Name: IDeA North Eastern Region Conference 2023 \nWhere: Delaware\, DE \nWhen: August 16-18\, 2023. \nKnow more about the event: https://sites.udel.edu/neric-2023/ \n  \nWe invite you to block these dates on the calendar and join us in August 2023. \n\nWelcome to NERIC 2023! \n\nNorth-Eastern Region \nNAIPI
URL:https://naipi.org/event/idea-north-eastern-region-conference-2023/
LOCATION:NAIPI North Eastern Region\, University of Rhode Island\, Kingston\, RI\, 02881\, United States
CATEGORIES:Delaware,North Eastern (NE)
ATTACH;FMTTYPE=image/png:https://naipi.org/wp-content/uploads/2023/01/NEIRC-NE-Event.png
END:VEVENT
BEGIN:VEVENT
DTSTART;TZID=UTC:20220114T080000
DTEND;TZID=UTC:20220114T170000
DTSTAMP:20260423T131126
CREATED:20211101T015710Z
LAST-MODIFIED:20211101T015829Z
UID:2034-1642147200-1642179600@naipi.org
SUMMARY:RI INBRE: 2nd Rhode Island Microbiome Symposium
DESCRIPTION:We welcome you to attend the 2nd Rhode Island Microbiome Symposium to be held January 14\, 2022 at Avedisian Hall at the University of Rhode Island.  This symposium is to bring together Rhode Island and other researchers who conduct or are interested in conducting microbiome research.  The symposium will include keynote speakers Dr. Alvaro Sanchez (Yale) and Dr. Sue Ishaq (University of Maine)\, formal talks from regional researchers\, lightning talks for students and postdocs\, and a poster session. \nThe goal of this symposium is to promote microbiome and microbial research in Rhode Island and the Northeast by bringing together researchers from state universities and hospitals who currently work on microbiome research or who are interested in starting microbiome research.  We hope this symposium will stimulate networking and result in new collaborations\, grant proposals and manuscripts.  While the scope is broad to encourage participation\, the general focus will be on microbiome research relevant to the State of Rhode Island such as ocean health\, aquaculture and precision medicine initiatives. \nFor questions contact:\nChristopher Hemme\nDirector\, RI-INBRE Bioinformatics Core\nOffice: 495K\, College of Pharmacy\, University of Rhode Island\nPhone: 401.874.9862\nEmail: hemmecl@uri.edu \nRhode Island Microbiome Symposium 2022 – Rhode Island IDeA Network of Biomedical Research Excellence (uri.edu) \n 
URL:https://naipi.org/event/ri-inbre-2nd-rhode-island-microbiome-symposium/
LOCATION:NAIPI North Eastern Region\, University of Rhode Island\, Kingston\, RI\, 02881\, United States
CATEGORIES:North Eastern (NE),Rhode Island
ATTACH;FMTTYPE=image/png:https://naipi.org/wp-content/uploads/2021/10/1920x1080-17.png
END:VEVENT
BEGIN:VEVENT
DTSTART;TZID=UTC:20211213T160000
DTEND;TZID=UTC:20211217T190000
DTSTAMP:20260423T131126
CREATED:20211031T201830Z
LAST-MODIFIED:20211125T031244Z
UID:2015-1639411200-1639767600@naipi.org
SUMMARY:University of Maine: Finding Funding Challenge
DESCRIPTION:Join Fogler Library and the Office of Research Development for a re-run of the Finding Funding Challenge. Each day\, for five days\, you will receive an email with tasks designed to build your grantseeking skills. You will learn how to effectively and efficiently find funding opportunities tailored to your creative and scholarly interests\, strategically read a request for proposals\, and make your grant proposal a standout. \nHave questions? Contact Jen Bonnet\, jenbonnet@maine.edu. \n 
URL:https://naipi.org/event/the-university-of-maine-finding-funding-challenge-online/
LOCATION:NAIPI North Eastern Region\, University of Rhode Island\, Kingston\, RI\, 02881\, United States
CATEGORIES:Maine,North Eastern (NE)
ATTACH;FMTTYPE=image/png:https://naipi.org/wp-content/uploads/2021/10/1920x1080-12-1.png
END:VEVENT
BEGIN:VEVENT
DTSTART;TZID=UTC:20211210T083000
DTEND;TZID=UTC:20211210T170000
DTSTAMP:20260423T131126
CREATED:20211031T203516Z
LAST-MODIFIED:20211031T203516Z
UID:2020-1639125000-1639155600@naipi.org
SUMMARY:Dartmouth College NH- NIH grant-writing seminar
DESCRIPTION:Grant Proposal Support (GrantGPS) will be hosting an NIH grant-writing seminar led by John Robertson\, PhD\, of Grant Writers’ Seminars and Workshops. Dr. Robertson will return in person to present his seminar on writing winning NIH proposals on December 10th from 8:30 AM to 4:30 PM (ET).There is no cost for the seminars. Participants will receive a copy of The Grant Application Writer’s Workbook for NIH Grants.  \nResearchers\, trainees\, graduate students\, and research administrators are all welcome to attend. The Registration Deadline is October 30th. To register go to: https://dartgo.org/nihproposals2021 \nDecember 10\, 2021 – NIH grant-writing seminar – New Hampshire INBRE (dartmouth.edu) \n 
URL:https://naipi.org/event/dartmouth-college-nh-nih-grant-writing-seminar/
LOCATION:NAIPI North Eastern Region\, University of Rhode Island\, Kingston\, RI\, 02881\, United States
CATEGORIES:New Hampshire,North Eastern (NE)
ATTACH;FMTTYPE=image/png:https://naipi.org/wp-content/uploads/2021/10/1920x1080-13-1.png
END:VEVENT
BEGIN:VEVENT
DTSTART;TZID=UTC:20211119T110000
DTEND;TZID=UTC:20211119T120000
DTSTAMP:20260423T131126
CREATED:20211101T014014Z
LAST-MODIFIED:20211101T014014Z
UID:2024-1637319600-1637323200@naipi.org
SUMMARY:Rhode Island INBRE- Cancer Innovator: Alcinous Pharmaceuticals
DESCRIPTION:Alcinous Pharmaceuticals strive to design and develop therapeutics for aggressive cancers. Founded in 2016 by three PhD students at the University of Rhode Island\, Alcinous Pharmaceuticals uses a novel drug discovery pipeline in tandem with their innovative team to develop new classes of therapeutics. \nThey design and develop new molecules that modulate the activity of well-established protein targets related to oncology and other pathologies. Their computational and synthetic approaches facilitate the identification and development of novel target ligands and new therapeutics. \nCancer Innovator: Alcinous Pharmaceuticals – Rhode Island IDeA Network of Biomedical Research Excellence (uri.edu) \n 
URL:https://naipi.org/event/rhode-island-inbre-cancer-innovator-alcinous-pharmaceuticals/
LOCATION:NAIPI North Eastern Region\, University of Rhode Island\, Kingston\, RI\, 02881\, United States
CATEGORIES:North Eastern (NE),Rhode Island
ATTACH;FMTTYPE=image/png:https://naipi.org/wp-content/uploads/2021/10/1920x1080-14-1.png
END:VEVENT
BEGIN:VEVENT
DTSTART;TZID=UTC:20211111T080000
DTEND;TZID=UTC:20211114T170000
DTSTAMP:20260423T131126
CREATED:20211101T015153Z
LAST-MODIFIED:20211101T015153Z
UID:2031-1636617600-1636909200@naipi.org
SUMMARY:Vermont INBRE: Annual Biomedical Research Conference for Minority Students (ABRCMS) 2021
DESCRIPTION:Annual Biomedical Research Conference for Minority Students (ABRCMS) 2021\nNovember 11-14\, 2021\nView agenda at a glance\nRegister now\nThe Annual Biomedical Research Conference for Minority Students (ABRCMS) is one of the largest communities of underrepresented minorities in science\, technology\, engineering and mathematics. Students attend this conference to present their research\, enhance professional development skills\, explore graduate schools\, and network. Research faculty and program directors play an essential role in mentoring students and learning strategies for facilitating student success. \nAnnual Biomedical Research Conference for Minority Students (ABRCMS) 2021 | Vermont Biomedical Research Network (vbrn.org)
URL:https://naipi.org/event/vermont-inbre-annual-biomedical-research-conference-for-minority-students-abrcms-2021/
LOCATION:NAIPI North Eastern Region\, University of Rhode Island\, Kingston\, RI\, 02881\, United States
CATEGORIES:North Eastern (NE),Vermont
ATTACH;FMTTYPE=image/png:https://naipi.org/wp-content/uploads/2021/10/1920x1080-16-1.png
END:VEVENT
BEGIN:VEVENT
DTSTART;TZID=UTC:20211106T090000
DTEND;TZID=UTC:20211106T130000
DTSTAMP:20260423T131126
CREATED:20211101T014720Z
LAST-MODIFIED:20211101T014720Z
UID:2027-1636189200-1636203600@naipi.org
SUMMARY:Vermont INBRE- Grant Writing Workshop
DESCRIPTION:The VBRN Grant Writing Workshop will be held online on Saturday\, November 6. Attendance at this workshop will be required for all faculty intending to apply for Exploratory\, Pilot or Project Award funding for June 1\, 2022-May 31\, 2023. Details on the program will be forthcoming\, but there will be an informational morning session followed by small group breakouts to review the submitted pitch papers described on the site. \nGrant Writing Workshop | Vermont Biomedical Research Network (vbrn.org) \n  \n 
URL:https://naipi.org/event/vermont-inbre-grant-writing-workshop/
LOCATION:NAIPI North Eastern Region\, University of Rhode Island\, Kingston\, RI\, 02881\, United States
CATEGORIES:North Eastern (NE),Vermont
ATTACH;FMTTYPE=image/png:https://naipi.org/wp-content/uploads/2021/10/1920x1080-15-1.png
END:VEVENT
BEGIN:VEVENT
DTSTART;TZID=UTC:20210816T080000
DTEND;TZID=UTC:20210818T170000
DTSTAMP:20260423T131126
CREATED:20210630T111426Z
LAST-MODIFIED:20210804T211134Z
UID:838-1629100800-1629306000@naipi.org
SUMMARY:North-East Regional IDeA Conference
DESCRIPTION:Rhode Island INBRE is pleased to host the 2021 North East Regional Institutional Development Award (IDeA) Conference this summer. \nThis virtual conference will bring together investigators and students from IDeA programs throughout Delaware\, Maine\, New Hampshire\, Rhode Island\, and Vermont and will feature keynotes\, science sessions\, breakouts\, and \nLighting Talks highlighting some exciting IDeA research and discoveries in the areas of neuro and cardiovascular health\, cancer\, addiction\, host/microbe interactions and drug resistance\, environmental health sciences\, computational biology\, and entrepreneurship. View the agenda. \nOur featured Lightning Talks are an exciting opportunity for trainees to share short and engaging presentations. Please encourage your trainees to submit an abstract before the July 1 deadline.
URL:https://naipi.org/event/2021-virtual-north-east-regional-idea-conference-v-neric/
LOCATION:NAIPI North Eastern Region\, University of Rhode Island\, Kingston\, RI\, 02881\, United States
CATEGORIES:North Eastern (NE)
ATTACH;FMTTYPE=image/jpeg:https://naipi.org/wp-content/uploads/2021/06/210623-idea-neric-2.jpeg
END:VEVENT
END:VCALENDAR