BEGIN:VCALENDAR
VERSION:2.0
PRODID:-//NAIPI - ECPv6.15.17.1//NONSGML v1.0//EN
CALSCALE:GREGORIAN
METHOD:PUBLISH
X-WR-CALNAME:NAIPI
X-ORIGINAL-URL:https://naipi.org
X-WR-CALDESC:Events for NAIPI
REFRESH-INTERVAL;VALUE=DURATION:PT1H
X-Robots-Tag:noindex
X-PUBLISHED-TTL:PT1H
BEGIN:VTIMEZONE
TZID:America/Chicago
BEGIN:DAYLIGHT
TZOFFSETFROM:-0600
TZOFFSETTO:-0500
TZNAME:CDT
DTSTART:20240310T080000
END:DAYLIGHT
BEGIN:STANDARD
TZOFFSETFROM:-0500
TZOFFSETTO:-0600
TZNAME:CST
DTSTART:20241103T070000
END:STANDARD
BEGIN:DAYLIGHT
TZOFFSETFROM:-0600
TZOFFSETTO:-0500
TZNAME:CDT
DTSTART:20250309T080000
END:DAYLIGHT
BEGIN:STANDARD
TZOFFSETFROM:-0500
TZOFFSETTO:-0600
TZNAME:CST
DTSTART:20251102T070000
END:STANDARD
BEGIN:DAYLIGHT
TZOFFSETFROM:-0600
TZOFFSETTO:-0500
TZNAME:CDT
DTSTART:20260308T080000
END:DAYLIGHT
BEGIN:STANDARD
TZOFFSETFROM:-0500
TZOFFSETTO:-0600
TZNAME:CST
DTSTART:20261101T070000
END:STANDARD
END:VTIMEZONE
BEGIN:VEVENT
DTSTART;VALUE=DATE:20250701
DTEND;VALUE=DATE:20251226
DTSTAMP:20260424T034215
CREATED:20250807T154618Z
LAST-MODIFIED:20250807T154642Z
UID:5008-1751328000-1766707199@naipi.org
SUMMARY:IDeA NOA Tracker
DESCRIPTION:Piestar has released an updated NOA tracker using Airtable which gives you the ability to sort\, filter and download data: NOA Tracker – Piestar
URL:https://naipi.org/event/idea-noa-tracker/
CATEGORIES:Central,North Eastern (NE),South Eastern (SE),Western
ATTACH;FMTTYPE=image/jpeg:https://naipi.org/wp-content/uploads/2022/09/IDeA-Logo.jpg
END:VEVENT
BEGIN:VEVENT
DTSTART;TZID=America/Chicago:20250807T150000
DTEND;TZID=America/Chicago:20250807T160000
DTSTAMP:20260424T034215
CREATED:20250807T155846Z
LAST-MODIFIED:20250807T155935Z
UID:5016-1754578800-1754582400@naipi.org
SUMMARY:NAIPI National Committee Annual Meeting
DESCRIPTION:This is a closed-door meeting for the National Committee Members\, the invitation is already sent out through NAIPI communications along with the agenda. \nLooking forward to meeting you all who are part of the NAIPI’s National Committee. \n\nNational Committee Members
URL:https://naipi.org/event/naipi-national-committee-annual-meeting/
LOCATION:Zoom Invitation
CATEGORIES:Central,North Eastern (NE),South Eastern (SE),Western
ATTACH;FMTTYPE=image/jpeg:https://naipi.org/wp-content/uploads/2021/04/NAIPI-Logo-only.jpg
END:VEVENT
END:VCALENDAR