BEGIN:VCALENDAR
VERSION:2.0
PRODID:-//NAIPI - ECPv6.15.17.1//NONSGML v1.0//EN
CALSCALE:GREGORIAN
METHOD:PUBLISH
X-ORIGINAL-URL:https://naipi.org
X-WR-CALDESC:Events for NAIPI
REFRESH-INTERVAL;VALUE=DURATION:PT1H
X-Robots-Tag:noindex
X-PUBLISHED-TTL:PT1H
BEGIN:VTIMEZONE
TZID:America/Chicago
BEGIN:DAYLIGHT
TZOFFSETFROM:-0600
TZOFFSETTO:-0500
TZNAME:CDT
DTSTART:20220313T080000
END:DAYLIGHT
BEGIN:STANDARD
TZOFFSETFROM:-0500
TZOFFSETTO:-0600
TZNAME:CST
DTSTART:20221106T070000
END:STANDARD
BEGIN:DAYLIGHT
TZOFFSETFROM:-0600
TZOFFSETTO:-0500
TZNAME:CDT
DTSTART:20230312T080000
END:DAYLIGHT
BEGIN:STANDARD
TZOFFSETFROM:-0500
TZOFFSETTO:-0600
TZNAME:CST
DTSTART:20231105T070000
END:STANDARD
BEGIN:DAYLIGHT
TZOFFSETFROM:-0600
TZOFFSETTO:-0500
TZNAME:CDT
DTSTART:20240310T080000
END:DAYLIGHT
BEGIN:STANDARD
TZOFFSETFROM:-0500
TZOFFSETTO:-0600
TZNAME:CST
DTSTART:20241103T070000
END:STANDARD
END:VTIMEZONE
BEGIN:VTIMEZONE
TZID:UTC
BEGIN:STANDARD
TZOFFSETFROM:+0000
TZOFFSETTO:+0000
TZNAME:UTC
DTSTART:20210101T000000
END:STANDARD
END:VTIMEZONE
BEGIN:VEVENT
DTSTART;TZID=America/Chicago:20231030T080000
DTEND;TZID=America/Chicago:20231110T170000
DTSTAMP:20260423T131121
CREATED:20230913T102413Z
LAST-MODIFIED:20230913T102413Z
UID:4280-1698652800-1699635600@naipi.org
SUMMARY:NCGR/NM INBRE: Virtual Bioinformatics Workshop
DESCRIPTION:NCGR/ NM INBRE: VIRTUAL BIOINFORMATICS WORKSHOPS:\n\nCome learn about Differential gene Expression\, Single Cell RNA-Seq and Metagenomics! These virtual workshops will teach you hands-on analysis from start to finish that you can apply to your current or future research. \nEach workshop covers basic linux skills\, R skills\, and then various applications specific to each workshop and analysis type covered. Attending students obtain access to our bioinformatics analysis server for use in our workshops and up to 1 year longer to use on their own. \nPlease visit our NCGR Workshop Calendar for more details\, and for information how to apply: NCGR / NM-INBRE Workshop \nNew Mexico Students and Researchers are free! Other students and researchers: attend more than one Fall 2023 Workshop and receive 30% off! National Center for Genome Resources\, 2935 Rodeo Park Dr E\, Santa Fe\, New Mexico\, 98505\, United States of America \n\nFor more details\, contact: Please contact Project Coordinator\, Ethan Price at eprice@ncgr.org
URL:https://naipi.org/event/ncgr-nm-inbre-virtual-bioinformatics-workshop/
LOCATION:Online
CATEGORIES:New Mexico,Western
ATTACH;FMTTYPE=image/png:https://naipi.org/wp-content/uploads/2023/09/NCGR-BIOINFORMATICS-WORKSHOP.png
END:VEVENT
BEGIN:VEVENT
DTSTART;TZID=UTC:20230802T080000
DTEND;TZID=UTC:20230804T170000
DTSTAMP:20260423T131121
CREATED:20230120T141528Z
LAST-MODIFIED:20230428T172346Z
UID:4036-1690963200-1691168400@naipi.org
SUMMARY:IDeA Western Region Conference 2023
DESCRIPTION:Event Name: IDeA Western Region Conference 2023 \nWhere: New Mexico\, NM \nWhen: August 02-04\, 2023. \nKnow more about the event: 2023 Western Conference | New Mexico State University – BE BOLD. Shape the Future. (nmsu.edu) \nWe invite you to block these dates on the calendar and join us in August 2023. \n2023 Western Conference | New Mexico State University – BE BOLD. Shape the Future. (nmsu.edu) \nNAIPI \nWestern Region
URL:https://naipi.org/event/idea-western-region-conference-2023/
LOCATION:NAIPI Western Region
CATEGORIES:New Mexico,Western
ATTACH;FMTTYPE=image/png:https://naipi.org/wp-content/uploads/2023/01/Western-Region-Event.png
END:VEVENT
BEGIN:VEVENT
DTSTART;TZID=UTC:20220131T080000
DTEND;TZID=UTC:20220204T170000
DTSTAMP:20260423T131121
CREATED:20220124T213315Z
LAST-MODIFIED:20220124T213315Z
UID:3308-1643616000-1643994000@naipi.org
SUMMARY:NCGR 2022 Virtual Metagenomics Workshop
DESCRIPTION:NCGR 2022 Virtual Metagenomics Workshop\nWhen\nJanuary 31 – February 4\, 2022 (5 days)\n9 am – 4 pm \nWhere\nOnline (by the National Center for Genome Resources (NCGR) Santa Fe\, NM) \nAudience\nThis program is geared towards training biologists (undergraduates\, graduates\, and researchers) with minimal or no bioinformatics experience. Space is limited. \nObjective\nStudents will use the command-line interface to learn and conduct 16S Community Profiling and whole-genome Metagenomics and meta-transcriptomics analysis. Relevant tools such as QIIME2 will be used for community analysis and Centrifuge\, MEGAN\, DIAMOND\, and other tools for meta-transcriptomics analysis. \nTopic overview\nMicrobes are extremely essential for every part of human life. Microbes are closely associated with plants and animals and participate in the healthy functioning of hosts by making all nutrients\, vitamins and metals available to them.  Our gut microbes for instance make energy from food available to us while protecting us from other pathogenic bacteria. Hence it is evident\, microbes do not conduct these functions as single entities\, instead as complex communities.  Through the metagenomics workshop\, we will use computational methods to maximize our understanding of the collective genetic composition as well as the activities of complex microbial communities sampled from diverse environments. \nApplication Due 11:59pm January 25th.  Late applications will not be accepted.  Selection Committee to select participants shortly after the deadline. If any questions arise while reviewing your application packet\, we will contact you directly. \nhttps://nminbre.org/ncgr-2022-virtual-metagenomics-workshop/
URL:https://naipi.org/event/ncgr-2022-virtual-metagenomics-workshop/
LOCATION:NAIPI Western Region
CATEGORIES:New Mexico
ATTACH;FMTTYPE=image/png:https://naipi.org/wp-content/uploads/2022/01/NEW-MEXICO-INBRE.png
END:VEVENT
BEGIN:VEVENT
DTSTART;TZID=UTC:20220103T090000
DTEND;TZID=UTC:20220107T160000
DTSTAMP:20260423T131121
CREATED:20211216T221655Z
LAST-MODIFIED:20211216T221655Z
UID:2852-1641200400-1641571200@naipi.org
SUMMARY:NCGR 2022 Virtual Differential Expression (DE) Workshop
DESCRIPTION:Differential Expression (DE) entails examining the fraction of the genome that is responsible for making products that drive organismal function. Gene expression is influenced by various extrinsic physiological and environmental as well as several intrinsic properties of the organism. Whole transcriptome profiles are becoming increasingly popular\, useful and generate large volumes of data. Knowing how to handle\, analyze\, and make biological inferences on this scale of data is a valuable skill-set for students and researchers. \nWhen\nJanuary 3 – 7\, 2022 (5 days)\n9 am – 4 pm \nWhere\nOnline (by the National Center for Genome Resources (NCGR) Santa Fe\, NM) \nAudience\nThis program is geared towards training biologists (undergraduates\, graduates and researchers) with minimal or no bioinformatics experience. Space is limited. \nObjective\nStudents will acquire the skill set to independently analyze RNA-Seq data using the command line interface\, analytical workflows and current DE tools. UNIX fundamentals\, RNA-Seq\, data QC\, alignments\, read count generation and pathway analysis. Visualization will also be briefly covered with topics such as generation of simple graphs using R and utilizing genome browsers (e.g. Integrative Genomics Viewer (IGV)). \n  \nFor more details\, visit: NCGR 2022 Virtual Differential Expression (DE) Workshop | New Mexico INBRENew Mexico INBRE (nminbre.org) \n 
URL:https://naipi.org/event/ncgr-2022-virtual-differential-expression-de-workshop/
LOCATION:NAIPI Central Region
CATEGORIES:Central,New Mexico
ATTACH;FMTTYPE=image/png:https://naipi.org/wp-content/uploads/2021/12/1920x1080-50.png
END:VEVENT
END:VCALENDAR